View In:
ArcGIS JavaScript
ArcGIS Online Map Viewer
ArcGIS Earth
Service Description: This data was created as a Mosaic dataset and then published to our Image Server in order to allow use of it for the Floodplain Department. The source comes from a FEMA FIRMS book that was scanned, imported, and then Georeferenced within ArcGIS Desktop circa 2006.
Name: FEMA_1989
Description: This data was created as a Mosaic dataset and then published to our Image Server in order to allow use of it for the Floodplain Department. The source comes from a FEMA FIRMS book that was scanned, imported, and then Georeferenced within ArcGIS Desktop circa 2006.
Single Fused Map Cache: false
Extent:
XMin: 2960849.1125901286
YMin: 1.3469350129915575E7
XMax: 3255579.3311971286
YMax: 1.3795427050977575E7
Spatial Reference: 102740
(2278)
Initial Extent:
XMin: 2960849.1125901286
YMin: 1.3469350129915575E7
XMax: 3255579.3311971286
YMax: 1.3795427050977575E7
Spatial Reference: 102740
(2278)
Full Extent:
XMin: 2960849.1125901286
YMin: 1.3469350129915575E7
XMax: 3255579.3311971286
YMax: 1.3795427050977575E7
Spatial Reference: 102740
(2278)
Pixel Size X: 2.3738510000000006
Pixel Size Y: 2.3738510000000006
Band Count: 1
Pixel Type: U1
RasterFunction Infos: {"rasterFunctionInfos": [{
"name": "None",
"description": "",
"help": ""
}]}
Mensuration Capabilities: None
Has Histograms: true
Has Colormap: false
Has Multi Dimensions : false
Rendering Rule:
Min Scale: 0
Max Scale: 0
Copyright Text:
Service Data Type: esriImageServiceDataTypeGeneric
Min Values: 0
Max Values: 1
Mean Values: 0.9297236481945131
Standard Deviation Values: 0.25561238674603504
Object ID Field: OBJECTID
Fields:
-
OBJECTID
(
type: esriFieldTypeOID, alias: OBJECTID
)
-
Name
(
type: esriFieldTypeString, alias: Name, length: 200
)
-
MinPS
(
type: esriFieldTypeDouble, alias: MinPS
)
-
MaxPS
(
type: esriFieldTypeDouble, alias: MaxPS
)
-
LowPS
(
type: esriFieldTypeDouble, alias: LowPS
)
-
HighPS
(
type: esriFieldTypeDouble, alias: HighPS
)
-
Category
(
type: esriFieldTypeInteger, alias: Category
)
-
Tag
(
type: esriFieldTypeString, alias: Tag, length: 100
)
-
GroupName
(
type: esriFieldTypeString, alias: GroupName, length: 100
)
-
ProductName
(
type: esriFieldTypeString, alias: ProductName, length: 100
)
-
CenterX
(
type: esriFieldTypeDouble, alias: CenterX
)
-
CenterY
(
type: esriFieldTypeDouble, alias: CenterY
)
-
ZOrder
(
type: esriFieldTypeInteger, alias: ZOrder
)
-
Shape
(
type: esriFieldTypeGeometry, alias: Shape
)
Default Mosaic Method: Northwest
Allowed Mosaic Methods: NorthWest,Center,LockRaster,ByAttribute,Nadir,Viewpoint,Seamline,None
SortField:
SortValue: null
Mosaic Operator: First
Default Compression Quality: 75
Default Resampling Method: Bilinear
Max Record Count: 1000
Max Image Height: 4100
Max Image Width: 15000
Max Download Image Count: 20
Max Mosaic Image Count: 20
Allow Raster Function: true
Allow Copy: true
Allow Analysis: true
Allow Compute TiePoints: false
Supports Statistics: true
Supports Advanced Queries: true
Use StandardizedQueries: true
Raster Type Infos:
Name: Raster Dataset
Description: Supports all ArcGIS Raster Datasets
Help:
Has Raster Attribute Table: false
Edit Fields Info: null
Ownership Based AccessControl For Rasters: null
Child Resources:
Info
Histograms
Statistics
Key Properties
Legend
Raster Function Infos
Supported Operations:
Export Image
Query
Identify
Compute Histograms
Compute Statistics Histograms
Get Samples
Compute Class Statistics
Query Boundary
Compute Pixel Location
Compute Angles
Validate
Project